BEGIN:VCALENDAR
VERSION:2.0
PRODID:-//Facultatea de Automatica si Calculatoare - ECPv6.8.2.1//NONSGML v1.0//EN
CALSCALE:GREGORIAN
METHOD:PUBLISH
X-WR-CALNAME:Facultatea de Automatica si Calculatoare
X-ORIGINAL-URL:https://acs.upb.ro
X-WR-CALDESC:Events for Facultatea de Automatica si Calculatoare
REFRESH-INTERVAL;VALUE=DURATION:PT1H
X-Robots-Tag:noindex
X-PUBLISHED-TTL:PT1H
BEGIN:VTIMEZONE
TZID:UTC
BEGIN:STANDARD
TZOFFSETFROM:+0000
TZOFFSETTO:+0000
TZNAME:UTC
DTSTART:20240101T000000
END:STANDARD
END:VTIMEZONE
BEGIN:VEVENT
DTSTART;VALUE=DATE:20241203
DTEND;VALUE=DATE:20241204
DTSTAMP:20260424T023834
CREATED:20241205T070814Z
LAST-MODIFIED:20241205T070955Z
UID:6689-1733184000-1733270399@acs.upb.ro
SUMMARY:TechACS
DESCRIPTION:În această săptămână am sărbătorit 10 ani de la înființarea Institutului de Cercetare Precis si 57 de ani de la înființarea Facultății de Automatică și Calculatoare\, un loc unde inovația\, cercetarea si excelența se întâlnesc pentru a contribui la dezvoltarea viitoarelor generații de ingineri. \nConstituirea consiliului consultativ al Precis si ACS alături de partenerii strategici din mediul de afaceri\, organizarea de workshop-uri dedicate împreună cu SAP\, BRD\, MSD\, LSEG\, Honeywell\, Global Logic\, Infineon si Vodafone sau organizarea unei mese rotunde cu scopul de a apropia comunitatea ACS de profesorii de profil din licee sunt doar câteva din evenimentele ce au marcat această zi onomastică! \nMulțumim tuturor colegilor\, colaboratorilor și partenerilor care au fost alături de noi pe acest drum! Suntem mândri de ceea ce am realizat până acum și privim cu încredere spre un viitor plin de noi descoperiri și realizări!
URL:https://acs.upb.ro/evenimente/techacs/
CATEGORIES:Tech
END:VEVENT
END:VCALENDAR